BEGIN:VCALENDAR
VERSION:2.0
PRODID:-//HR Systems - ECPv6.15.20//NONSGML v1.0//EN
CALSCALE:GREGORIAN
METHOD:PUBLISH
X-WR-CALNAME:HR Systems
X-ORIGINAL-URL:https://www.hrsincorporated.com
X-WR-CALDESC:Events for HR Systems
REFRESH-INTERVAL;VALUE=DURATION:PT1H
X-Robots-Tag:noindex
X-PUBLISHED-TTL:PT1H
BEGIN:VTIMEZONE
TZID:America/Chicago
BEGIN:DAYLIGHT
TZOFFSETFROM:-0600
TZOFFSETTO:-0500
TZNAME:CDT
DTSTART:20180311T080000
END:DAYLIGHT
BEGIN:STANDARD
TZOFFSETFROM:-0500
TZOFFSETTO:-0600
TZNAME:CST
DTSTART:20181104T070000
END:STANDARD
BEGIN:DAYLIGHT
TZOFFSETFROM:-0600
TZOFFSETTO:-0500
TZNAME:CDT
DTSTART:20190310T080000
END:DAYLIGHT
BEGIN:STANDARD
TZOFFSETFROM:-0500
TZOFFSETTO:-0600
TZNAME:CST
DTSTART:20191103T070000
END:STANDARD
BEGIN:DAYLIGHT
TZOFFSETFROM:-0600
TZOFFSETTO:-0500
TZNAME:CDT
DTSTART:20200308T080000
END:DAYLIGHT
BEGIN:STANDARD
TZOFFSETFROM:-0500
TZOFFSETTO:-0600
TZNAME:CST
DTSTART:20201101T070000
END:STANDARD
BEGIN:DAYLIGHT
TZOFFSETFROM:-0600
TZOFFSETTO:-0500
TZNAME:CDT
DTSTART:20210314T080000
END:DAYLIGHT
BEGIN:STANDARD
TZOFFSETFROM:-0500
TZOFFSETTO:-0600
TZNAME:CST
DTSTART:20211107T070000
END:STANDARD
BEGIN:DAYLIGHT
TZOFFSETFROM:-0600
TZOFFSETTO:-0500
TZNAME:CDT
DTSTART:20220313T080000
END:DAYLIGHT
BEGIN:STANDARD
TZOFFSETFROM:-0500
TZOFFSETTO:-0600
TZNAME:CST
DTSTART:20221106T070000
END:STANDARD
END:VTIMEZONE
BEGIN:VEVENT
DTSTART;TZID=America/Chicago:20210519T090000
DTEND;TZID=America/Chicago:20210519T110000
DTSTAMP:20260424T191418
CREATED:20210414T143720Z
LAST-MODIFIED:20210415T190517Z
UID:1516-1621414800-1621422000@www.hrsincorporated.com
SUMMARY:Supervisory Tools - A Kit to Use
DESCRIPTION:This tool kit is designed to equip the supervisors and managers with the essentials of basic supervision.  In this kit\, we will provide information that ranges from how to interview employees to what to do when a termination is going to take place. Many subjects are covered in the following segments. \nChapter 1           Know who you are hiring \nChapter 2           Don’t step on a land mine \nChapter 3           Be a strong coach \nChapter 4           Be an effective communicator \nChapter 5           Lead by example \nChapter 6           Handle discipline appropriately \nThis fast-paced workshop will give the attendee a great foundation for being an effective supervisor or manager.  For anyone wanting to attend but no not in-person\, a Zoom Link will be provided and materials sent to them prior to the workshop.
URL:https://www.hrsincorporated.com/event/supervisory-tools-a-kit-to-use/
LOCATION:Champions Run Country Club\, 13800 Eagle Run Drive\, Omaha\, NE\, 68164\, United States
CATEGORIES:Supervisory Training
ATTACH;FMTTYPE=image/jpeg:https://www.hrsincorporated.com/wp-content/uploads/shutterstock_125557019-scaled.jpg
ORGANIZER;CN="HR Systems Inc.":MAILTO:dpedersen@hrsincorporated.com
END:VEVENT
BEGIN:VEVENT
DTSTART;TZID=America/Chicago:20200226T080000
DTEND;TZID=America/Chicago:20200226T110000
DTSTAMP:20260424T191418
CREATED:20200128T023530Z
LAST-MODIFIED:20201117T163336Z
UID:1212-1582704000-1582714800@www.hrsincorporated.com
SUMMARY:Coaching & Progressive Discipline Workshop
DESCRIPTION:  \n  \n  \nCoaching and Progressive Discipline Workshop\nAre you equipped to coach\, council\, discipline or terminate an employee? \nThese subjects are probably the most difficult yet most important for managers to deal with.  Having to coach\, council\, discipline and potentially terminate an employee can have various effects on the workforce at large. The workshop will cover proper guidelines to follow when handling each of these subjects. \n\nHow do you Coach an employee?\nWhat is progressive discipline?\nUsing an employee warning system; verbal\, written and suspension\nEliminating emotions during the discipline process\nDealing with only the facts\nWhat to do when termination is the only alternative\nProtecting you and the companyChampions Run Country Club 13800 Eagle Run Drive\n$89/per person\, limit 10 per workshop\n\n*Important: Select a ticket quantity below then click the “Get Tickets” button.
URL:https://www.hrsincorporated.com/event/coaching-progressive-discipline-workshop/
LOCATION:Champions Run Country Club\, 13800 Eagle Run Drive\, Omaha\, NE\, 68164\, United States
CATEGORIES:Supervisory Training
ORGANIZER;CN="HR Systems Inc.":MAILTO:dpedersen@hrsincorporated.com
END:VEVENT
BEGIN:VEVENT
DTSTART;TZID=America/Chicago:20200129T080000
DTEND;TZID=America/Chicago:20200129T110000
DTSTAMP:20260424T191418
CREATED:20200107T121748Z
LAST-MODIFIED:20200107T210114Z
UID:1179-1580284800-1580295600@www.hrsincorporated.com
SUMMARY:Professionalism/Respect in the Workplace & Preventing Harassment
DESCRIPTION:Professionalism/Respect in the Workplace & Preventing Harassment\nRecent Headlines – \nWorkplace Bullying can Spark Criminal Charges \nManagers Joking about Age\, Disability\, that’s a million-dollar mistake. \nDirty Dozen: The 12 Worst Manager mistakes that trigger lawsuits \nWhat are your policies for professionalism\, respect and harassment? These topics have become serious issues in the last couple of years.  In addition\, violence in the workplace is also becoming an issue that companies need to understand and have a good working knowledge of how to handle. \nThis workshop addresses these topics with proactive and effective methods to train your managers and employees. \nJanuary 29\, 2020\, 8:00am – 11:00am \nChampions Run Country Club 13800 Eagle Run Drive \n$89/per person\, limit 10 per workshop
URL:https://www.hrsincorporated.com/event/professionalism-respect-in-the-workplace-preventing-harassment/
LOCATION:Champions Run Country Club\, 13800 Eagle Run Drive\, Omaha\, NE\, 68164\, United States
CATEGORIES:Supervisory Training
ORGANIZER;CN="HR Systems Inc.":MAILTO:dpedersen@hrsincorporated.com
END:VEVENT
BEGIN:VEVENT
DTSTART;TZID=America/Chicago:20190516T090000
DTEND;TZID=America/Chicago:20190516T113000
DTSTAMP:20260424T191418
CREATED:20190422T182125Z
LAST-MODIFIED:20190422T182125Z
UID:1106-1557997200-1558006200@www.hrsincorporated.com
SUMMARY:Management Principles
DESCRIPTION:Workshop Description \nWho taught you to supervise?  What methods do you use to coach\, teach and develop your employees?  Employers are faced with rapid and increasing changes in employment law. \nManagers are faced with ongoing challenges – business directives\, goals\, people. \nManager knowledge of each is critical and essential. \nIn this workshop we focus on various methods of manager development and managing employees.
URL:https://www.hrsincorporated.com/event/management-principles/
LOCATION:Champions Run Country Club\, 13800 Eagle Run Drive\, Omaha\, NE\, 68164\, United States
CATEGORIES:Supervisory Training
ORGANIZER;CN="HR Systems Inc.":MAILTO:dpedersen@hrsincorporated.com
END:VEVENT
BEGIN:VEVENT
DTSTART;TZID=America/Chicago:20190117T090000
DTEND;TZID=America/Chicago:20190117T113000
DTSTAMP:20260424T191418
CREATED:20181217T162723Z
LAST-MODIFIED:20181217T171310Z
UID:919-1547715600-1547724600@www.hrsincorporated.com
SUMMARY:Litigation Landmines a Survival Guide for Supervisors
DESCRIPTION:Workshop Description \nThis workshop is updated for 2019 and focuses on the role of the supervisor and how to handle problem situations and employees? We will focus on: \n\nThe typical landmines that supervisors can “step on”.\nResources to use for various employee situations.\nPolicies to follow.\nHR’s role.\n\nThe focus of this workshop is on the “people side” of supervision and what each supervisor needs to be aware of as they deal with situations and employees.  We will discuss documentation\, training\, attendance\, emails\, job performance\, references and how to stay out of court.
URL:https://www.hrsincorporated.com/event/litigation-landmines-a-survival-guide-for-supervisors/
LOCATION:Champions Run Country Club\, 13800 Eagle Run Drive\, Omaha\, NE\, 68164\, United States
CATEGORIES:Supervisory Training
ORGANIZER;CN="HR Systems Inc.":MAILTO:dpedersen@hrsincorporated.com
END:VEVENT
END:VCALENDAR