BEGIN:VCALENDAR
VERSION:2.0
PRODID:-//HR Systems - ECPv6.15.20//NONSGML v1.0//EN
CALSCALE:GREGORIAN
METHOD:PUBLISH
X-WR-CALNAME:HR Systems
X-ORIGINAL-URL:https://www.hrsincorporated.com
X-WR-CALDESC:Events for HR Systems
REFRESH-INTERVAL;VALUE=DURATION:PT1H
X-Robots-Tag:noindex
X-PUBLISHED-TTL:PT1H
BEGIN:VTIMEZONE
TZID:America/Chicago
BEGIN:DAYLIGHT
TZOFFSETFROM:-0600
TZOFFSETTO:-0500
TZNAME:CDT
DTSTART:20170312T080000
END:DAYLIGHT
BEGIN:STANDARD
TZOFFSETFROM:-0500
TZOFFSETTO:-0600
TZNAME:CST
DTSTART:20171105T070000
END:STANDARD
BEGIN:DAYLIGHT
TZOFFSETFROM:-0600
TZOFFSETTO:-0500
TZNAME:CDT
DTSTART:20180311T080000
END:DAYLIGHT
BEGIN:STANDARD
TZOFFSETFROM:-0500
TZOFFSETTO:-0600
TZNAME:CST
DTSTART:20181104T070000
END:STANDARD
BEGIN:DAYLIGHT
TZOFFSETFROM:-0600
TZOFFSETTO:-0500
TZNAME:CDT
DTSTART:20190310T080000
END:DAYLIGHT
BEGIN:STANDARD
TZOFFSETFROM:-0500
TZOFFSETTO:-0600
TZNAME:CST
DTSTART:20191103T070000
END:STANDARD
END:VTIMEZONE
BEGIN:VEVENT
DTSTART;TZID=America/Chicago:20181108T090000
DTEND;TZID=America/Chicago:20181108T120000
DTSTAMP:20260424T171530
CREATED:20181014T193902Z
LAST-MODIFIED:20181015T160004Z
UID:888-1541667600-1541678400@www.hrsincorporated.com
SUMMARY:Respect in the Workplace Conflict Management
DESCRIPTION:Did you know?? \nAn ongoing study by the Gallup Organization revealed that only 31% of employees are engaged at work. \nWhen they further evaluated engagement metrics\, they learned that only 3 in 10 employees agree their fellow associates are committed to doing quality work; that at work\, their opinions count; or agree they have the materials and equipment to do their job right. These statistics could indicate an overwhelming issue with conflict resolution. How does your business line up?  Are you recognizing conflict in your workplace? What are you doing about it? \nHR Systems has developed a workshop for all supervisory and HR professionals that focus on identifying\, addressing and resolving conflict in the workplace. \nThat however\, is only the first part of our workshop. Respect in the workplace is a must and many times the conflict we face start because of the lack of respect. As you can see\, these two topic go hand-in-hand. \nWe invite you to join us for our November 8\, 2018 workshop. We are holding this workshop from 9:00 am -12:00 noon at the Champions Run Country Club. Cost for the program is $90.00/person. \nThe workshop will carry 3.0 SHRM Credits. \n 
URL:https://www.hrsincorporated.com/event/respect-in-the-workplace-conflict-management/
LOCATION:Champions Run Country Club\, 13800 Eagle Run Drive\, Omaha\, NE\, 68164\, United States
ORGANIZER;CN="HR Systems Inc.":MAILTO:dpedersen@hrsincorporated.com
END:VEVENT
END:VCALENDAR